BEGIN:VCALENDAR
VERSION:2.0
PRODID:-// - ECPv6.15.20//NONSGML v1.0//EN
CALSCALE:GREGORIAN
METHOD:PUBLISH
X-ORIGINAL-URL:https://www.kaypoker.com
X-WR-CALDESC: 이벤트
REFRESH-INTERVAL;VALUE=DURATION:PT1H
X-Robots-Tag:noindex
X-PUBLISHED-TTL:PT1H
BEGIN:VTIMEZONE
TZID:Asia/Tokyo
BEGIN:STANDARD
TZOFFSETFROM:+0900
TZOFFSETTO:+0900
TZNAME:JST
DTSTART:20250101T000000
END:STANDARD
END:VTIMEZONE
BEGIN:VEVENT
DTSTART;VALUE=DATE:20260225
DTEND;VALUE=DATE:20260310
DTSTAMP:20260425T235352
CREATED:20260128T105831Z
LAST-MODIFIED:20260128T105831Z
UID:40910-1771977600-1773100799@www.kaypoker.com
SUMMARY:마닐라 메가스택 24
DESCRIPTION:위치: Okada Manila\, 필리핀 마닐라 \n영문 주소(English):\nOkada Manila\, New Seaside Drive\, Entertainment City\, Parañaque City\, Metro Manila 1701\, Philippines \n날짜: 2월 25일 – 3월 9일 \n관련링크 : 정보 확인 하기 (클릭)
URL:https://www.kaypoker.com/event/pokerstars-live-manila-megastack-24/
LOCATION:Okada Manila\, New Seaside Dr\, Parañaque\, 1701 Metro Manila\, Philippines\, Parañaque\, Metro Manila\, 1701\, Philippines
CATEGORIES:아시아토너먼트
ATTACH;FMTTYPE=image/png:https://www.kaypoker.com/wp-content/uploads/2026/01/포커스타즈-메가스택-24.png
END:VEVENT
BEGIN:VEVENT
DTSTART;VALUE=DATE:20260226
DTEND;VALUE=DATE:20260311
DTSTAMP:20260425T235352
CREATED:20260128T110645Z
LAST-MODIFIED:20260129T081356Z
UID:40913-1772064000-1773187199@www.kaypoker.com
SUMMARY:플레이어즈 시리즈 챔피언쉽 III 타이베이 2026
DESCRIPTION:위치: Okada Manila\, 필리핀 마닐라 \n대만어 주소:\n亞洲撲克競技場\, 台北市中山區南京東路二段96號9樓 (아시아 푸커 징지창\, 타이베이시 중산구 난징둥루 얼두안 96하오 9러우) \n영문 주소(English):\nAsia Poker Arena\, 9F\, No. 96\, Section 2\, Nanjing East Road\, Zhongshan District\, Taipei City\, Taiwan \n날짜: 2월 26일 – 3월 10일 \n관련링크 : 정보 확인 하기 (클릭)
URL:https://www.kaypoker.com/event/players-series-championship-iii-taipei-2026/
LOCATION:Asia Poker Arena\, Zhongshan District\, Section 1\, Jianguo N Rd\, 80號b1\, Taipei City\, 10491\, Taiwan
CATEGORIES:아시아토너먼트
ATTACH;FMTTYPE=image/png:https://www.kaypoker.com/wp-content/uploads/2026/01/플레이어스-시리즈-타이페이-2026.png
END:VEVENT
BEGIN:VEVENT
DTSTART;VALUE=DATE:20260305
DTEND;VALUE=DATE:20260316
DTSTAMP:20260425T235352
CREATED:20260129T080634Z
LAST-MODIFIED:20260129T080634Z
UID:40953-1772668800-1773619199@www.kaypoker.com
SUMMARY:트라이튼 원 2026
DESCRIPTION:위치: LES A CASINO JEJU\, 대한민국 제주도 \n한국어 주소:\n제주특별자치도 서귀포시 안덕면 녹차분재로 217 제주신화월드 LES A CASINO JEJU \n영문 주소(English):\n217\, Nokchabunjae-ro\, Andeok-myeon\, Seogwipo-si\, Jeju-do\, 63521\, Republic of Korea \n날짜: 3월 5일 – 3월 15일 \n관련링크 : 정보 확인 하기 (클릭)
URL:https://www.kaypoker.com/event/triton-one-2026-jeju/
LOCATION:Jeju Shinhwa World\, 38\, Sinhwayeoksa-ro 304beon-gil\, Andeok-myeon\, Seogwipo-si\, Jeju-do\, 63522​\, Korea\, Republic of
CATEGORIES:아시아토너먼트
ATTACH;FMTTYPE=image/png:https://www.kaypoker.com/wp-content/uploads/2026/01/트라이튼-원-제주-2026.png
END:VEVENT
BEGIN:VEVENT
DTSTART;VALUE=DATE:20260306
DTEND;VALUE=DATE:20260309
DTSTAMP:20260425T235352
CREATED:20260129T102841Z
LAST-MODIFIED:20260129T102841Z
UID:40964-1772755200-1773014399@www.kaypoker.com
SUMMARY:더 싱가폴 포커 챔피언쉽 SPC XX
DESCRIPTION:위치: MV Aegean Paradise(크루즈 상선)\, 싱가폴 \n영문 주소(English):\nMV Aegean Paradise\, Marina Bay\, Singapore \n날짜: 3월 6일 – 3월 8일 \n관련링크 : 정보 확인 하기 (클릭) \n크루즈 링크 : 크루즈 예약 확인 하기 (클릭)
URL:https://www.kaypoker.com/event/spc-xx-2026/
LOCATION:Marina Bay Singapore\, Marina Bay\, Singapore\, Singapore\, 018956\, Singapore
CATEGORIES:아시아토너먼트
ATTACH;FMTTYPE=image/png:https://www.kaypoker.com/wp-content/uploads/2026/01/싱가포르-포커-챔피언십-SPC-XX.png
END:VEVENT
END:VCALENDAR