BEGIN:VCALENDAR
VERSION:2.0
PRODID:-// - ECPv6.15.20//NONSGML v1.0//EN
CALSCALE:GREGORIAN
METHOD:PUBLISH
X-ORIGINAL-URL:https://www.kaypoker.com
X-WR-CALDESC: 이벤트
REFRESH-INTERVAL;VALUE=DURATION:PT1H
X-Robots-Tag:noindex
X-PUBLISHED-TTL:PT1H
BEGIN:VTIMEZONE
TZID:Asia/Tokyo
BEGIN:STANDARD
TZOFFSETFROM:+0900
TZOFFSETTO:+0900
TZNAME:JST
DTSTART:20250101T000000
END:STANDARD
END:VTIMEZONE
BEGIN:VEVENT
DTSTART;VALUE=DATE:20260410
DTEND;VALUE=DATE:20260422
DTSTAMP:20260426T042736
CREATED:20260306T043216Z
LAST-MODIFIED:20260306T043216Z
UID:41364-1775779200-1776815999@www.kaypoker.com
SUMMARY:RDPT 플러스 2026
DESCRIPTION:위치: 제주 신화월드\, 제주도 대한민국 \n현지어 주소:\n제주특별자치도 서귀포시 안덕면 신화역사로304번길 38 \n영문 주소 (English):\nJeju Shinhwa World\n38\, Sinhwayeoksa-ro 304beon-gil\, Andeok-myeon\, Seogwipo-si\, Jeju-do\, Republic of Korea \n날짜: 4월 10일 – 4월 21일 \n관련링크 : 정보 확인 하기 (클릭)
URL:https://www.kaypoker.com/event/rdpt-plus-jeju-2026-poker-tour-schedule-prizes/
LOCATION:Jeju Shinhwa World\, 38\, Sinhwayeoksa-ro 304beon-gil\, Andeok-myeon\, Seogwipo-si\, Jeju-do\, 63522​\, Korea\, Republic of
CATEGORIES:아시아토너먼트
ATTACH;FMTTYPE=image/png:https://www.kaypoker.com/wp-content/uploads/2026/03/RDPT-플러스-2026.png
END:VEVENT
BEGIN:VEVENT
DTSTART;VALUE=DATE:20260410
DTEND;VALUE=DATE:20260420
DTSTAMP:20260426T042736
CREATED:20260306T043714Z
LAST-MODIFIED:20260306T043714Z
UID:41368-1775779200-1776643199@www.kaypoker.com
SUMMARY:AJPC 사무라시 써킷 - 인천 2026
DESCRIPTION:위치: 파라다이스 인천\, 인천광역시 대한민국 \n현지어 주소:\n인천광역시 중구 영종해안남로321번길 186 \n영문 주소 (English):\nParadise City\n186\, Yeongjonghaeannam-ro 321beon-gil\, Jung-gu\, Incheon\, Republic of Korea \n날짜: 4월 10일 – 4월 19일 \n관련링크 : 정보 확인 하기 (클릭)
URL:https://www.kaypoker.com/event/ajpc-samurai-circuit-incheon-2026-poker-event-schedule/
LOCATION:Paradise City Incheon\, 186\, Yeongjonghaeannam-ro 321-gil\, Jung-gu\, Incheon\, Korea\, Republic of
CATEGORIES:아시아토너먼트
ATTACH;FMTTYPE=image/png:https://www.kaypoker.com/wp-content/uploads/2026/03/AJPC-사무라시-써킷-인천-2026.png
END:VEVENT
BEGIN:VEVENT
DTSTART;VALUE=DATE:20260409
DTEND;VALUE=DATE:20260421
DTSTAMP:20260426T042736
CREATED:20260306T042436Z
LAST-MODIFIED:20260306T042436Z
UID:41361-1775692800-1776729599@www.kaypoker.com
SUMMARY:포커 드림 21 말레이시아
DESCRIPTION:위치: Resorts World Genting\, 빠항 말레이시아 \n현지어 주소 (Malay):\nResorts World Genting\, Genting Highlands\, 69000 Pahang\, Malaysia\n(리조트 월드 겐팅\, 겐팅 하일랜드\, 은남 씀빌란 코퐁 코퐁 빠항\, 말레이시아) \n영문 주소 (English):\nResorts World Genting\nGenting Highlands\, 69000 Pahang\, Malaysia \n날짜: 4월 9일 – 4월 20일 \n관련링크 : 정보 확인 하기 (클릭)
URL:https://www.kaypoker.com/event/poker-dream-21-malaysia-genting-highlands-2026-schedule/
LOCATION:Resorts World Genting\, Malaysia\, 69000 Genting Highlands Pahang\, Kuala Lumpur Malaysia\, Malaysia
CATEGORIES:아시아토너먼트
ATTACH;FMTTYPE=image/png:https://www.kaypoker.com/wp-content/uploads/2026/03/포커-드림-21-말레이시아.png
END:VEVENT
BEGIN:VEVENT
DTSTART;VALUE=DATE:20260406
DTEND;VALUE=DATE:20260414
DTSTAMP:20260426T042736
CREATED:20260306T041139Z
LAST-MODIFIED:20260306T041624Z
UID:41349-1775433600-1776124799@www.kaypoker.com
SUMMARY:원 포커 컵 IV
DESCRIPTION:위치: Won Majestic Hotel\, 시아누크빌 캄보디아 \n현지어 주소 (Khmer):\nផ្លូវ ២ កក្កដា\, សង្កាត់លេខ ៤\, ក្រុងព្រះសីហនុ\, ខេត្តព្រះសីហនុ\, កម្ពុជា\n(플러우 삐 꺼까다\, 썽깟 레익 부언\, 끄롱 쁘레아 씨하누\, 카엣 쁘레아 씨하누\, 깜뿌찌아) \n영문 주소 (English):\nWon Majestic Hotel & Casino\n2nd July Street\, Sangkat 4\, Preah Sihanouk City\, Preah Sihanouk Province\, Cambodia \n날짜: 4월 6일 – 4월 13일 \n관련링크 : 정보 확인 하기 (클릭)
URL:https://www.kaypoker.com/event/won-poker-cup-iv-wpc-4-sihanoukville-2026-schedule/
LOCATION:WON MAJESTIC HOTEL CAMBODIA\, Phum 4\, Sangkat 4 Krong Preah\, Sihanouk\, Ville\, Cambodia
CATEGORIES:아시아토너먼트
ATTACH;FMTTYPE=image/png:https://www.kaypoker.com/wp-content/uploads/2026/03/원-포커-컵-IV1.png
END:VEVENT
BEGIN:VEVENT
DTSTART;VALUE=DATE:20260326
DTEND;VALUE=DATE:20260407
DTSTAMP:20260426T042736
CREATED:20260306T034651Z
LAST-MODIFIED:20260306T034651Z
UID:41339-1774483200-1775519999@www.kaypoker.com
SUMMARY:슈퍼컵 6 경기도\, 2026
DESCRIPTION:위치: 마인드 스포트 스타디움\, 일산 대한민국 \n한국어 주소:\n경기도 고양시 일산서구 킨텍스로 217-59 (대화동) \n영문 주소 (English):\nMind Sports Stadium\n217-59\, Kinte x-ro\, Ilsanseo-gu\, Goyang-si\, Gyeonggi-do\, Republic of Korea \n날짜: 3월 26일 – 4월 6일 \n관련링크 : 정보 확인 하기 (클릭)
URL:https://www.kaypoker.com/event/super-cup-6-gyeonggi-2026-poker-event-details/
LOCATION:Mind Sports Stadium\, 217-59\, Kintex-ro\, Ilsanseo-gu\, Goyang-si\, Gyeonggi-do\, 10390\, Korea\, Republic of
CATEGORIES:아시아토너먼트
ATTACH;FMTTYPE=image/png:https://www.kaypoker.com/wp-content/uploads/2026/03/슈퍼컵-6-경기도-2026.png
END:VEVENT
BEGIN:VEVENT
DTSTART;VALUE=DATE:20260326
DTEND;VALUE=DATE:20260406
DTSTAMP:20260426T042736
CREATED:20260306T031839Z
LAST-MODIFIED:20260306T032357Z
UID:41333-1774483200-1775433599@www.kaypoker.com
SUMMARY:더 코일드 패쓰 - GOP 프놈펜 2026
DESCRIPTION:위치: NagaWorld\, 프놈펜 태국 \n현지어 주소:\nសួនសម្ដេចតេជោ ហ៊ុន សែន\, សង្កាត់ទន្លេបាសាក់\, ខណ្ឌចំការមន\, ភ្នំពេញ\, កម្ពុជា\n(수언 삼덱 테코 훈 센\, 상깟 톤레 바삭\, 칸 참카르 몬\, 프놈펜\, 캄보디아) \n영문 주소(English):\nNagaWorld Integrated Resort\nSamdech Techo Hun Sen Park\, Sangkat Tonle Bassac\, Khan Chamkar Mon\, Phnom Penh\, Cambodia \n날짜: 3월 26일 – 4월 5일 \n관련링크 : 정보 확인 하기 (클릭)
URL:https://www.kaypoker.com/event/gop-phnom-penh-2026-the-coiled-path-poker-event/
LOCATION:NagaWorld Phnom Penh\, Cambodia
CATEGORIES:아시아토너먼트
ATTACH;FMTTYPE=image/png:https://www.kaypoker.com/wp-content/uploads/2026/03/The-Coiled-Path-GOP-프놈펜-2026-e1772767425793.png
END:VEVENT
END:VCALENDAR