BEGIN:VCALENDAR
VERSION:2.0
PRODID:-// - ECPv6.15.20//NONSGML v1.0//EN
CALSCALE:GREGORIAN
METHOD:PUBLISH
X-ORIGINAL-URL:https://www.kaypoker.com
X-WR-CALDESC: 이벤트
REFRESH-INTERVAL;VALUE=DURATION:PT1H
X-Robots-Tag:noindex
X-PUBLISHED-TTL:PT1H
BEGIN:VTIMEZONE
TZID:Asia/Tokyo
BEGIN:STANDARD
TZOFFSETFROM:+0900
TZOFFSETTO:+0900
TZNAME:JST
DTSTART:20250101T000000
END:STANDARD
END:VTIMEZONE
BEGIN:VEVENT
DTSTART;VALUE=DATE:20260326
DTEND;VALUE=DATE:20260330
DTSTAMP:20260424T055511
CREATED:20260306T035722Z
LAST-MODIFIED:20260306T035722Z
UID:41344-1774483200-1774828799@www.kaypoker.com
SUMMARY:니폰 시리즈 고 카고시마 2026
DESCRIPTION:위치: Li-Ka Nangoku Hall\, 카고시마 일본 \n현지어 주소:\n鹿児島県鹿児島市中央町19-40 Li-Ka1920 5階\n(카-고-시-마-켄 카-고-시-마-시 츄-오-쵸 쥬-큐-다-시-욘-쥬 라이-카 이-치-큐-니-마-루 고-카이) \n영문 주소 (English):\nLi-Ka Nangoku Hall\n5th Floor\, Li-Ka1920\, 19-40\, Chuo-machi\, Kagoshima City\, Kagoshima\, Japan \n날짜: 3월 26일 – 3월 29일 \n관련링크 : 정보 확인 하기 (클릭)
URL:https://www.kaypoker.com/event/%eb%8b%88%ed%8f%b0-%ec%8b%9c%eb%a6%ac%ec%a6%88-%ea%b3%a0-%ec%b9%b4%ea%b3%a0%ec%8b%9c%eb%a7%88-2026/
LOCATION:Li-Ka Nangoku Hall\, 5th Floor\, Li-Ka1920\, 19-40\, Chuo-machi\, Kagoshima City\, Kagoshima\, 890-0053\, Japan
CATEGORIES:아시아토너먼트
ATTACH;FMTTYPE=image/png:https://www.kaypoker.com/wp-content/uploads/2026/03/니폰-시리즈-고-카고시마-2026.png
END:VEVENT
END:VCALENDAR