BEGIN:VCALENDAR
VERSION:2.0
PRODID:-// - ECPv6.15.20//NONSGML v1.0//EN
CALSCALE:GREGORIAN
METHOD:PUBLISH
X-ORIGINAL-URL:https://www.kaypoker.com
X-WR-CALDESC: 이벤트
REFRESH-INTERVAL;VALUE=DURATION:PT1H
X-Robots-Tag:noindex
X-PUBLISHED-TTL:PT1H
BEGIN:VTIMEZONE
TZID:Asia/Tokyo
BEGIN:STANDARD
TZOFFSETFROM:+0900
TZOFFSETTO:+0900
TZNAME:JST
DTSTART:20250101T000000
END:STANDARD
END:VTIMEZONE
BEGIN:VEVENT
DTSTART;VALUE=DATE:20260429
DTEND;VALUE=DATE:20260511
DTSTAMP:20260423T065935
CREATED:20260306T055434Z
LAST-MODIFIED:20260306T055434Z
UID:41378-1777420800-1778457599@www.kaypoker.com
SUMMARY:오카다 마닐라 밀리언즈 2026
DESCRIPTION:위치: Okada Manila\, 마닐라 필리핀 \n영문 주소 (English):\nNew Seaside Drive\, Entertainment City\, Parañaque\, 1701 Metro Manila\, Philippines \n날짜: 4월 29일 – 5월 10일 \n관련링크 : 정보 확인 하기 (클릭)
URL:https://www.kaypoker.com/event/okada-manila-millions-pokerstars-live-manila-schedule/
LOCATION:Okada Manila\, New Seaside Dr\, Parañaque\, 1701 Metro Manila\, Philippines\, Parañaque\, Metro Manila\, 1701\, Philippines
CATEGORIES:아시아토너먼트
ATTACH;FMTTYPE=image/png:https://www.kaypoker.com/wp-content/uploads/2026/03/오카다-마닐라-밀리언즈-2026.png
END:VEVENT
END:VCALENDAR