BEGIN:VCALENDAR
VERSION:2.0
PRODID:-// - ECPv6.15.20//NONSGML v1.0//EN
CALSCALE:GREGORIAN
METHOD:PUBLISH
X-ORIGINAL-URL:https://www.kaypoker.com
X-WR-CALDESC: 이벤트
REFRESH-INTERVAL;VALUE=DURATION:PT1H
X-Robots-Tag:noindex
X-PUBLISHED-TTL:PT1H
BEGIN:VTIMEZONE
TZID:Asia/Tokyo
BEGIN:STANDARD
TZOFFSETFROM:+0900
TZOFFSETTO:+0900
TZNAME:JST
DTSTART:20250101T000000
END:STANDARD
END:VTIMEZONE
BEGIN:VEVENT
DTSTART;VALUE=DATE:20260422
DTEND;VALUE=DATE:20260504
DTSTAMP:20260422T042100
CREATED:20260306T044718Z
LAST-MODIFIED:20260306T044718Z
UID:41371-1776816000-1777852799@www.kaypoker.com
SUMMARY:APT 타이베이 2026
DESCRIPTION:위치: Red Space\, 타이베이 대만 \n현지어 주소 (Traditional Chinese):\n台北市松山區復興北路15號B1\n(타이-뻬이-쓰 쏭-싼-취 푸-씽-뻬이-루 쓰-우-하오 비-이) \n영문 주소 (English):\nB1\, No. 15\, Fuxing North Road\, Songshan District\, Taipei City\, Taiwan \n날짜: 4월 22일 – 5월 3일 \n관련링크 : 정보 확인 하기 (클릭)
URL:https://www.kaypoker.com/event/apt-taipei-2026-asian-poker-tour-schedule-venue/
LOCATION:Red Space\, Red Space\, No. 11\, Songshou Road\, Xinyi District\, Taipei City\, Taipei\, 110\, Taiwan
CATEGORIES:아시아토너먼트
ATTACH;FMTTYPE=image/png:https://www.kaypoker.com/wp-content/uploads/2026/03/APT-타이베이-2026.png
END:VEVENT
END:VCALENDAR