BEGIN:VCALENDAR
VERSION:2.0
PRODID:-// - ECPv6.15.20//NONSGML v1.0//EN
CALSCALE:GREGORIAN
METHOD:PUBLISH
X-ORIGINAL-URL:https://www.kaypoker.com
X-WR-CALDESC: 이벤트
REFRESH-INTERVAL;VALUE=DURATION:PT1H
X-Robots-Tag:noindex
X-PUBLISHED-TTL:PT1H
BEGIN:VTIMEZONE
TZID:Asia/Tokyo
BEGIN:STANDARD
TZOFFSETFROM:+0900
TZOFFSETTO:+0900
TZNAME:JST
DTSTART:20250101T000000
END:STANDARD
END:VTIMEZONE
BEGIN:VEVENT
DTSTART;VALUE=DATE:20260314
DTEND;VALUE=DATE:20260402
DTSTAMP:20260423T080612
CREATED:20260129T104714Z
LAST-MODIFIED:20260129T104714Z
UID:40972-1773446400-1775087999@www.kaypoker.com
SUMMARY:트라이튼 슈퍼 하이롤러 시리즈 제주 S5 2026
DESCRIPTION:위치: 제주 신화 월드\, 대한민국 제주도 \n한국어 주소:\n제주특별자치도 서귀포시 안덕면 신화역사로 304 \n영문 주소(English):\nJeju Shinhwa World\, 304\, Sinhwa Yeoksa-ro\, Andeok-myeon\, Seogwipo-si\, Jeju Special Self-Governing Province\, Korea \n날짜: 3월 14일 – 4월 1일 \n관련링크 : 정보 확인 하기 (클릭)
URL:https://www.kaypoker.com/event/triton-super-high-roller-series-jeju-s5-2026/
LOCATION:Jeju Shinhwa World\, 38\, Sinhwayeoksa-ro 304beon-gil\, Andeok-myeon\, Seogwipo-si\, Jeju-do\, 63522​\, Korea\, Republic of
CATEGORIES:아시아토너먼트
ATTACH;FMTTYPE=image/png:https://www.kaypoker.com/wp-content/uploads/2026/01/트라이튼-슈퍼-하이롤러-시리즈-제주-2026.png
END:VEVENT
END:VCALENDAR