BEGIN:VCALENDAR
VERSION:2.0
PRODID:-// - ECPv6.15.20//NONSGML v1.0//EN
CALSCALE:GREGORIAN
METHOD:PUBLISH
X-ORIGINAL-URL:https://www.kaypoker.com
X-WR-CALDESC: 이벤트
REFRESH-INTERVAL;VALUE=DURATION:PT1H
X-Robots-Tag:noindex
X-PUBLISHED-TTL:PT1H
BEGIN:VTIMEZONE
TZID:Asia/Tokyo
BEGIN:STANDARD
TZOFFSETFROM:+0900
TZOFFSETTO:+0900
TZNAME:JST
DTSTART:20250101T000000
END:STANDARD
END:VTIMEZONE
BEGIN:VEVENT
DTSTART;VALUE=DATE:20260429
DTEND;VALUE=DATE:20260512
DTSTAMP:20260426T040709
CREATED:20260409T045429Z
LAST-MODIFIED:20260409T050040Z
UID:42388-1777420800-1778543999@www.kaypoker.com
SUMMARY:VPL 베트남 포커 리그 III 2026
DESCRIPTION:위치: Hanoi Grand Plaza Hotel\, 하노이 베트남 \n현지어 주소 (Vietnamese):\n117 Đường Trần Duy Hưng\, Trung Hòa\, Cầu Giấy\, Hà Nội\, Việt Nam\n(못-짬-므-어이-바이 드-엉 짠-주이-흥\, 쭝-호아\, 꺼우-저이\, 하-노이\, 비엣-남) \n영문 주소 (English):\nNo. 117 Tran Duy Hung Street\, Trung Hoa\, Cau Giay District\, Hanoi\, Vietnam \n날짜: 4월 29일 – 5월 11일 \n관련링크 : 정보 확인 하기 (클릭)\n토너먼트 스케쥴 : 확인 하기 (클릭)
URL:https://www.kaypoker.com/event/vpl-vietnam-poker-league-iii-2026-hanoi-schedule/
LOCATION:Hanoi Grand Plaza Hotel\, No. 117 Tran Duy Hung Street\, Trung Hoa\, Hanoi\, Cau Giay District\, 100000\, Viet Nam
CATEGORIES:아시아토너먼트
ATTACH;FMTTYPE=image/png:https://www.kaypoker.com/wp-content/uploads/2026/04/VPL-베트남-포커-리그-III-2026.png
END:VEVENT
BEGIN:VEVENT
DTSTART;VALUE=DATE:20260501
DTEND;VALUE=DATE:20260512
DTSTAMP:20260426T040709
CREATED:20260409T051916Z
LAST-MODIFIED:20260409T055832Z
UID:42392-1777593600-1778543999@www.kaypoker.com
SUMMARY:포커 드림 22 대한민국
DESCRIPTION:위치: 제주 신화 월드\, 제주도 대한민국 \n현지어 주소 (Korean):\n제주특별자치도 서귀포시 안덕면 신화역사로304번길 38 \n영문 주소 (English):\n38\, Sinhwayeoksa-ro 304beon-gil\, Andeok-myeon\, Seogwipo-si\, Jeju-do\, Republic of Korea \n날짜: 5월 1일 – 5월 10일 \n관련링크 : 정보 확인 하기 (클릭)
URL:https://www.kaypoker.com/event/poker-dream-22-jeju-shinhwa-world-2026-schedule-prizes/
LOCATION:Jeju Shinhwa World\, 38\, Sinhwayeoksa-ro 304beon-gil\, Andeok-myeon\, Seogwipo-si\, Jeju-do\, 63522​\, Korea\, Republic of
CATEGORIES:아시아토너먼트
ATTACH;FMTTYPE=image/png:https://www.kaypoker.com/wp-content/uploads/2026/04/포커-드림-22-코리아.png
END:VEVENT
BEGIN:VEVENT
DTSTART;VALUE=DATE:20260506
DTEND;VALUE=DATE:20260519
DTSTAMP:20260426T040709
CREATED:20260409T062102Z
LAST-MODIFIED:20260409T062102Z
UID:42399-1778025600-1779148799@www.kaypoker.com
SUMMARY:VPT 챔피언쉽 III 2026
DESCRIPTION:위치: Corona Casino & Resort Phu Quoc\, 푸꾸옥 베트남 \n현지어 주소 (Vietnamese):\nKhu Bãi Dài\, Xã Gành Dầu\, Thành phố Phú Quốc\, Tỉnh Kiên Giang\, Việt Nam\n(쿠 바이 자이\, 싸 가인 저우\, 타인 포 푸 꾸옥\, 띤 끼엔 장\, 비엣 남) \n영문 주소 (English):\nBai Dai Area\, Ganh Dau Commune\, Phu Quoc City\, Kien Giang Province\, Vietnam \n날짜: 5월 6일 – 5월 18일 \n관련링크 : 토너먼트 스케쥴 확인 하기 (클릭)\n얼리버드 패키지: 확인 하기 (클릭)
URL:https://www.kaypoker.com/event/vpt-championship-iii-2026-phu-quoc-corona-casino-schedule/
LOCATION:Corona Casino Phu Quoc Vietnam\, Viet Nam
CATEGORIES:아시아토너먼트
ATTACH;FMTTYPE=image/png:https://www.kaypoker.com/wp-content/uploads/2026/04/VPT-챔피언쉽-III-2026.png
END:VEVENT
BEGIN:VEVENT
DTSTART;VALUE=DATE:20260511
DTEND;VALUE=DATE:20260519
DTSTAMP:20260426T040709
CREATED:20260409T074431Z
LAST-MODIFIED:20260409T074431Z
UID:42417-1778457600-1779148799@www.kaypoker.com
SUMMARY:AJPC 사무라이 써킷 - 대만 2026
DESCRIPTION:위치: Asia Poker Arena\, 타이베이 대만 \n현지어 주소 (Traditional Chinese):\n104 台北市 中山區 建國北路 三段 92호\n(일-공-사 타이-베이-시 중-산-취 지엔-궈-베이-루 싼-돤 지우-스-얼-하오) \n영문 주소 (English):\nNo. 92\, Section 3\, Jianguo N Rd\, Zhongshan District\, Taipei City\, Taiwan 104 \n날짜: 5월 11일 – 5월 18일 \n관련링크 : 스케쥴 확인 하기 (클릭)
URL:https://www.kaypoker.com/event/samurai-poker-series-taipei-2026-asia-poker-arena-schedule/
LOCATION:Asia Poker Arena\, Zhongshan District\, Section 1\, Jianguo N Rd\, 80號b1\, Taipei City\, 10491\, Taiwan
CATEGORIES:아시아토너먼트
ATTACH;FMTTYPE=image/png:https://www.kaypoker.com/wp-content/uploads/2026/04/AJPC-사무라이-써킷-대만-2026.png
END:VEVENT
END:VCALENDAR