BEGIN:VCALENDAR
VERSION:2.0
PRODID:-// - ECPv6.15.20//NONSGML v1.0//EN
CALSCALE:GREGORIAN
METHOD:PUBLISH
X-ORIGINAL-URL:https://www.kaypoker.com
X-WR-CALDESC: 이벤트
REFRESH-INTERVAL;VALUE=DURATION:PT1H
X-Robots-Tag:noindex
X-PUBLISHED-TTL:PT1H
BEGIN:VTIMEZONE
TZID:Asia/Tokyo
BEGIN:STANDARD
TZOFFSETFROM:+0900
TZOFFSETTO:+0900
TZNAME:JST
DTSTART:20250101T000000
END:STANDARD
END:VTIMEZONE
BEGIN:VEVENT
DTSTART;VALUE=DATE:20260515
DTEND;VALUE=DATE:20260525
DTSTAMP:20260424T034144
CREATED:20260409T071056Z
LAST-MODIFIED:20260409T071056Z
UID:42404-1778803200-1779667199@www.kaypoker.com
SUMMARY:더 프로페시 언폴드 - GOP 인천 2026
DESCRIPTION:위치: 파라다이스 시티 인천\, 인천 대한민국 \n현지어 주소 (Korean):\n인천광역시 중구 영종해안남로321번길 186 \n영문 주소 (English):\n186\, Yeongjonghaeannam-ro 321beon-gil\, Jung-gu\, Incheon\, Republic of Korea \n날짜: 5월 15일 – 5월 24일 \n관련링크 : 자세한 정보 확인 하기 (클릭)
URL:https://www.kaypoker.com/event/gods-of-poker-gop-incheon-2026-paradise-city-schedule/
LOCATION:Paradise City Incheon\, 186\, Yeongjonghaeannam-ro 321-gil\, Jung-gu\, Incheon\, Korea\, Republic of
CATEGORIES:아시아토너먼트
ATTACH;FMTTYPE=image/png:https://www.kaypoker.com/wp-content/uploads/2026/04/더-프로페시-언폴드-GOP-인천-2026.png
END:VEVENT
BEGIN:VEVENT
DTSTART;VALUE=DATE:20260515
DTEND;VALUE=DATE:20260526
DTSTAMP:20260424T034144
CREATED:20260409T072141Z
LAST-MODIFIED:20260409T072141Z
UID:42408-1778803200-1779753599@www.kaypoker.com
SUMMARY:The Lord Poker 토너먼트 제주 2026
DESCRIPTION:위치: 파라다이스 시티 인천\, 인천 대한민국 \n현지어 주소 (Korean):\n제주특별자치도 서귀포시 안덕면 신화역사로304번길 38 \n영문 주소 (English):\n38\, Sinhwayeoksa-ro 304beon-gil\, Andeok-myeon\, Seogwipo-si\, Jeju-do\, Republic of Korea \n날짜: 5월 15일 – 5월 25일 \n관련링크 : 스케쥴 확인 하기 (클릭)
URL:https://www.kaypoker.com/event/tlpt-the-lord-poker-tournament-jeju-2026-landing-casino-schedule/
LOCATION:Jeju Shinhwa World\, 38\, Sinhwayeoksa-ro 304beon-gil\, Andeok-myeon\, Seogwipo-si\, Jeju-do\, 63522​\, Korea\, Republic of
CATEGORIES:아시아토너먼트
ATTACH;FMTTYPE=image/png:https://www.kaypoker.com/wp-content/uploads/2026/04/TLPT-제주-2026.png
END:VEVENT
BEGIN:VEVENT
DTSTART;VALUE=DATE:20260519
DTEND;VALUE=DATE:20260602
DTSTAMP:20260424T034144
CREATED:20260409T073557Z
LAST-MODIFIED:20260409T073557Z
UID:42412-1779148800-1780358399@www.kaypoker.com
SUMMARY:USOP 베트남 하롱베이 2026
DESCRIPTION:위치: InterContinental Halong Bay Resort\, 하롱베이 베트남 \n현지어 주소 (Vietnamese):\nKhu đô thị Halong Marina\, Phường Hùng Thắng\, Thành phố Hạ Long\, Tỉnh Quảng Ninh\, Việt Nam\n(쿠 도 티 하롱 마리나\, 프엉 훙 탕\, 타인 포 하 롱\, 띤 꽝 닌\, 비엣 남) \n영문 주소 (English):\nHalong Marina Urban Area\, Hung Thang Ward\, Ha Long City\, Quang Ninh Province\, Vietnam \n날짜: 5월 19일 – 6월 1일 \n관련링크 : 스케쥴 확인 하기 (클릭)
URL:https://www.kaypoker.com/event/usop-vietnam-series-2026-halong-intercontinental-schedule/
LOCATION:InterContinental Halong Bay Resort\, Halong Marina Urban Area\, Hung Thang Ward\, Ha Long City\, Quang Ninh Province\, 200000\, Viet Nam
CATEGORIES:아시아토너먼트
ATTACH;FMTTYPE=image/png:https://www.kaypoker.com/wp-content/uploads/2026/04/USOP-베트남-하롱베이-2026.png
END:VEVENT
END:VCALENDAR