BEGIN:VCALENDAR
VERSION:2.0
PRODID:-// - ECPv6.15.20//NONSGML v1.0//EN
CALSCALE:GREGORIAN
METHOD:PUBLISH
X-ORIGINAL-URL:https://www.kaypoker.com
X-WR-CALDESC: 이벤트
REFRESH-INTERVAL;VALUE=DURATION:PT1H
X-Robots-Tag:noindex
X-PUBLISHED-TTL:PT1H
BEGIN:VTIMEZONE
TZID:Asia/Tokyo
BEGIN:STANDARD
TZOFFSETFROM:+0900
TZOFFSETTO:+0900
TZNAME:JST
DTSTART:20250101T000000
END:STANDARD
END:VTIMEZONE
BEGIN:VEVENT
DTSTART;VALUE=DATE:20260331
DTEND;VALUE=DATE:20260413
DTSTAMP:20260423T071305
CREATED:20260129T110804Z
LAST-MODIFIED:20260129T110804Z
UID:40980-1774915200-1776038399@www.kaypoker.com
SUMMARY:WSOPE 2026 프라하
DESCRIPTION:위치: King’s Casino Prague\, 체코 프라하 \n체코어 주소:\nPobřežní 1\, 186 00 Karlín\, Česká republika (포브르제니 1\, 186 00 칼린\, 프라하\, 체코 공화국) \n영문 주소(English):\nPobřežní 1\, 186 00 Karlín\, Prague\, Czech Republic \n날짜: 3월 31일 – 4월 12일 \n관련링크 : 정보 확인 하기 (클릭)
URL:https://www.kaypoker.com/event/wsope-2026-prague-wsop-europe-prague/
LOCATION:King’s Casino Prague\, Pobřežní 1\, 186 00 Karlín\, Prague\, Prague\, 186 00\, Czech Republic
CATEGORIES:아시아토너먼트
ATTACH;FMTTYPE=image/png:https://www.kaypoker.com/wp-content/uploads/2026/01/WSOPE-2026-프라하.png
END:VEVENT
END:VCALENDAR