BEGIN:VCALENDAR
VERSION:2.0
PRODID:-// - ECPv6.15.20//NONSGML v1.0//EN
CALSCALE:GREGORIAN
METHOD:PUBLISH
X-ORIGINAL-URL:https://www.kaypoker.com
X-WR-CALDESC: 이벤트
REFRESH-INTERVAL;VALUE=DURATION:PT1H
X-Robots-Tag:noindex
X-PUBLISHED-TTL:PT1H
BEGIN:VTIMEZONE
TZID:Asia/Tokyo
BEGIN:STANDARD
TZOFFSETFROM:+0900
TZOFFSETTO:+0900
TZNAME:JST
DTSTART:20250101T000000
END:STANDARD
END:VTIMEZONE
BEGIN:VEVENT
DTSTART;VALUE=DATE:20260130
DTEND;VALUE=DATE:20260209
DTSTAMP:20260423T124535
CREATED:20260128T105107Z
LAST-MODIFIED:20260128T105107Z
UID:40907-1769731200-1770595199@www.kaypoker.com
SUMMARY:APT 제주 클래식 2026
DESCRIPTION:위치: 제주신화월드\, 대한민국 제주도 \n한국어 주소:\n제주특별자치도 서귀포시 안덕면 신화역사로 304 제주신화월드 \n영문 주소(English):\nJeju Shinhwa World\, 304\, Sinhwa Yeoksa-ro\, Andeok-myeon\, Seogwipo-si\, Jeju Special Self-Governing Province\, Korea \n날짜: 1월 30일 – 2월 8일 \n관련링크 : 정보 확인 하기 (클릭)
URL:https://www.kaypoker.com/event/apt-jeju-classic-2026/
LOCATION:Jeju Shinhwa World\, 38\, Sinhwayeoksa-ro 304beon-gil\, Andeok-myeon\, Seogwipo-si\, Jeju-do\, 63522​\, Korea\, Republic of
CATEGORIES:아시아토너먼트
ATTACH;FMTTYPE=image/png:https://www.kaypoker.com/wp-content/uploads/2026/01/APT-제주-클래식-2026.png
END:VEVENT
END:VCALENDAR