BEGIN:VCALENDAR
VERSION:2.0
PRODID:-// - ECPv6.15.20//NONSGML v1.0//EN
CALSCALE:GREGORIAN
METHOD:PUBLISH
X-ORIGINAL-URL:https://www.kaypoker.com
X-WR-CALDESC: 이벤트
REFRESH-INTERVAL;VALUE=DURATION:PT1H
X-Robots-Tag:noindex
X-PUBLISHED-TTL:PT1H
BEGIN:VTIMEZONE
TZID:Asia/Tokyo
BEGIN:STANDARD
TZOFFSETFROM:+0900
TZOFFSETTO:+0900
TZNAME:JST
DTSTART:20250101T000000
END:STANDARD
END:VTIMEZONE
BEGIN:VEVENT
DTSTART;VALUE=DATE:20260319
DTEND;VALUE=DATE:20260331
DTSTAMP:20260423T031524
CREATED:20260129T105938Z
LAST-MODIFIED:20260129T110002Z
UID:40975-1773878400-1774915199@www.kaypoker.com
SUMMARY:RPT 챔피언쉽 II 2026
DESCRIPTION:위치: Royal Poker Club\, 베트남 하노이 \n베트남어 주소:\n195 Phố Khâm Thiên\, Thổ Quan\, Đống Đa\, Hà Nội\, Việt Nam (195 캄티엔 거리\, 트옥콴\, 동다\, 하노이\, 베트남) \n영문 주소(English):\n195 Khâm Thiên Street\, Thổ Quan Ward\, Đống Đa District\, Hà Nội\, Vietnam \n날짜: 3월 19일 – 3월 30일 \n관련링크 : 정보 확인 하기 (클릭)
URL:https://www.kaypoker.com/event/rpt-championship-ii-2026-hanoi-royal-poker-club/
LOCATION:Royal Poker Club\, Hanoi\, 195 Khâm Thiên Street\, Thổ Quan Ward\, Đống Đa District\, Hanoi\, Hanoi\, 100000\, Viet Nam
CATEGORIES:아시아토너먼트
ATTACH;FMTTYPE=image/png:https://www.kaypoker.com/wp-content/uploads/2026/01/RPT-Championship-II-2026.png
END:VEVENT
BEGIN:VEVENT
DTSTART;VALUE=DATE:20260129
DTEND;VALUE=DATE:20260210
DTSTAMP:20260423T031524
CREATED:20260128T104210Z
LAST-MODIFIED:20260128T104210Z
UID:40904-1769644800-1770681599@www.kaypoker.com
SUMMARY:포커 드림 20 말레이시아
DESCRIPTION:위치: Genting Highlands\, 말레이시아 파항 \n영문 주소(English):\nGenting Highlands\, 69000 Genting Highlands\, Pahang\, Malaysia (69000 겐팅 하이랜드\, 파항 주\, 말레이시아) \n날짜: 1월 29일 – 2월 9일 \n관련링크 : 정보 확인 하기 (클릭)
URL:https://www.kaypoker.com/event/poker-dream-20-malaysia-2026/
LOCATION:Resorts World Genting\, Malaysia\, 69000 Genting Highlands Pahang\, Kuala Lumpur Malaysia\, Malaysia
CATEGORIES:아시아토너먼트
ATTACH;FMTTYPE=image/png:https://www.kaypoker.com/wp-content/uploads/2026/01/포커드림-말레이시아-2026.png
END:VEVENT
BEGIN:VEVENT
DTSTART;VALUE=DATE:20260123
DTEND;VALUE=DATE:20260202
DTSTAMP:20260423T031524
CREATED:20260128T103017Z
LAST-MODIFIED:20260128T103138Z
UID:40901-1769126400-1769990399@www.kaypoker.com
SUMMARY:마닐라 슈퍼 시리즈 23
DESCRIPTION:위치: Okada Manila\, 필리핀 마닐라 \n영문 주소 (English):\nOkada Manila\, New Seaside Drive\, Entertainment City\, Parañaque City\, Metro Manila 1701\, Philippines (오카다 마닐라\, 뉴 시사이드 드라이브\, 엔터테인먼트 시티\, 파라냐케 시티\, 메트로 마닐라\, 필리핀) \n날짜: 1월 23일 – 2월 1일 \n관련링크 : 정보 확인 하기 (클릭)
URL:https://www.kaypoker.com/event/pokerstars-live-manila-super-series-23/
LOCATION:Okada Manila\, New Seaside Dr\, Parañaque\, 1701 Metro Manila\, Philippines\, Parañaque\, Metro Manila\, 1701\, Philippines
CATEGORIES:아시아토너먼트
ATTACH;FMTTYPE=image/png:https://www.kaypoker.com/wp-content/uploads/2026/01/포커스타즈-라이브-마닐라-슈퍼시리즈.png
END:VEVENT
BEGIN:VEVENT
DTSTART;VALUE=DATE:20260121
DTEND;VALUE=DATE:20260210
DTSTAMP:20260423T031524
CREATED:20260128T093627Z
LAST-MODIFIED:20260128T093631Z
UID:40894-1768953600-1770681599@www.kaypoker.com
SUMMARY:WPT 캄보디아 2026
DESCRIPTION:위치: NagaWorld\, 캄보디아 프놈펜 \n캄보디아어 주소:\nណាហ្គាវើលដ៍\, Samdech Techo Hun Sen Blvd (St. 60)\, Phnom Penh\, Cambodia (나가월드\, 삼뎃 테초 훈 센 불러바드(스트리트 60)\, 프놈펜\, 캄보디아) \n영문 주소 (English):\nNagaWorld\, Samdech Techo Hun Sen Boulevard (Street 60)\, Phnom Penh\, Cambodia \n날짜: 1월 21일 – 2월 9일 \n관련링크 : 정보 확인 하기 (클릭)
URL:https://www.kaypoker.com/event/wpt-%ec%ba%84%eb%b3%b4%eb%94%94%ec%95%84-2026/
LOCATION:NagaWorld Phnom Penh\, Cambodia
CATEGORIES:아시아토너먼트
ATTACH;FMTTYPE=image/png:https://www.kaypoker.com/wp-content/uploads/2026/01/WPT-캄보디아-2026.png
END:VEVENT
END:VCALENDAR